BEGIN:VCALENDAR
VERSION:2.0
PRODID:-//WMC Foundation Site - ECPv6.15.13//NONSGML v1.0//EN
CALSCALE:GREGORIAN
METHOD:PUBLISH
X-WR-CALNAME:WMC Foundation Site
X-ORIGINAL-URL:https://www.wmcfoundation.org
X-WR-CALDESC:Events for WMC Foundation Site
REFRESH-INTERVAL;VALUE=DURATION:PT1H
X-Robots-Tag:noindex
X-PUBLISHED-TTL:PT1H
BEGIN:VTIMEZONE
TZID:America/Chicago
BEGIN:DAYLIGHT
TZOFFSETFROM:-0600
TZOFFSETTO:-0500
TZNAME:CDT
DTSTART:20240310T080000
END:DAYLIGHT
BEGIN:STANDARD
TZOFFSETFROM:-0500
TZOFFSETTO:-0600
TZNAME:CST
DTSTART:20241103T070000
END:STANDARD
BEGIN:DAYLIGHT
TZOFFSETFROM:-0600
TZOFFSETTO:-0500
TZNAME:CDT
DTSTART:20250309T080000
END:DAYLIGHT
BEGIN:STANDARD
TZOFFSETFROM:-0500
TZOFFSETTO:-0600
TZNAME:CST
DTSTART:20251102T070000
END:STANDARD
BEGIN:DAYLIGHT
TZOFFSETFROM:-0600
TZOFFSETTO:-0500
TZNAME:CDT
DTSTART:20260308T080000
END:DAYLIGHT
BEGIN:STANDARD
TZOFFSETFROM:-0500
TZOFFSETTO:-0600
TZNAME:CST
DTSTART:20261101T070000
END:STANDARD
END:VTIMEZONE
BEGIN:VEVENT
DTSTART;TZID=America/Chicago:20250720T080000
DTEND;TZID=America/Chicago:20250723T170000
DTSTAMP:20260421T103021
CREATED:20211103T183316Z
LAST-MODIFIED:20260330T165509Z
UID:10000012-1752998400-1753290000@www.wmcfoundation.org
SUMMARY:2026 Business World Summer Camp
DESCRIPTION:Appleton Manufacturing Inspirations Day				\n				\n				\n				\n					An interactive career fair				\n				\n					\n		\n				\n			\n							\n		\n					\n		\n					\n		\n					\n		\n				\n						\n					\n			\n						\n				\n					Education & Industry				\n				\n				\n				\n									Manufacturers from across the state are invited to participate in our interactive fair\, co-hosted by A-TECH and the Fox Cities Chamber of Commerce. Contrary to the traditional “sit and get” career fairs\, we want manufacturers to bring activities that will engage the students and help them better understand exactly what your company does. Join us and give students an active and hands-on way to experience your industry. 								\n				\n				\n				\n							\n							\n				\n					\n					\n												\n							\n								\n									Register to Exhibit								\n							\n													\n											\n					\n									\n					\n						\n				\n					\n		\n				\n			\n						\n				\n					Date:				\n				\n				\n				\n					October 4\, 2023				\n				\n				\n				\n							\n			\n						\n		\n						\n				\n				\n				\n					Date:				\n				\n				\n				\n					7:30am-1:45pm				\n				\n				\n				\n							\n			\n						\n		\n						\n				\n				\n				\n					Venue: 				\n				\n				\n				\n					Appleton West High School610 N Badger Ave.Appleton\, WI\n				\n				\n					\n		\n					\n		\n				\n						\n					\n			\n						\n				\n							\n							\n					\n											\n														\n							\n					\n											\n														\n							\n					\n											\n														\n							\n					\n											\n														\n							\n					\n											\n														\n							\n					\n											\n														\n							\n					\n											\n														\n					\n					\n				\n					\n		\n					\n		\n				\n						\n					\n			\n						\n				\n					Manufacturing inspirations: Appleton\n 				\n				\n				\n				\n					Information				\n				\n				\n						\n					\n			\n						\n				\n																														\n				\n					\n		\n				\n			\n						\n				\n									Who: Manufacturers and Students 								\n				\n				\n				\n									We need YOU\, Manufacturers with facilities throughout Wisconsin\, to help us showcase career opportunities and the cool things we manufacture in our state to 2\,000 7-12th grade students from the Fox Cities. 								\n				\n					\n		\n					\n		\n				\n						\n					\n			\n						\n				\n																														\n				\n					\n		\n				\n			\n						\n				\n									Why: The benefits 								\n				\n				\n				\n									The benefit for manufacturers:  								\n				\n				\n				\n							\n							\n											\n													\n										Recognition for your company\n									\n								\n											\n													\n										Better knowledge among students about your industry\n									\n								\n											\n													\n										Sparked interest about working at your organization\n									\n						\n						\n				\n				\n				\n									The benefit for students:  								\n				\n				\n				\n							\n							\n											\n													\n										Learn about manufacturing careers and youth apprenticeships\n									\n								\n											\n													\n										Have hands-on fun\n									\n								\n											\n													\n										Opportunity to engage with future employers\n									\n						\n						\n				\n					\n		\n					\n		\n				\n						\n					\n			\n						\n				\n																														\n				\n					\n		\n				\n			\n						\n				\n									Price 								\n				\n				\n				\n									There is no price to attend or participate 								\n				\n					\n		\n					\n		\n				\n						\n					\n			\n						\n				\n																														\n				\n					\n		\n				\n			\n						\n				\n									Logistics 								\n				\n				\n				\n									The event will take place primarily indoors. Large equipment can be displayed outside. Students will rotate through the day in 90-minute overlapping sessions to help control the flow so each student will have the opportunity to engage with your team. We will have a table available to house your exhibit.  Please let us know how much space you will need and if you will need power so we can be sure to accommodate accordingly.  We will also offer lunch for all exhibitors. Please note: There may be photos/videos taken or media present.  								\n				\n				\n				\n							\n							\n				\n					\n					\n												\n							\n								\n									Register to exhibit								\n							\n													\n											\n					\n									\n					\n						\n				\n					\n		\n					\n		\n					\n		\n					\n		\n				\n						\n					\n			\n						\n						\n					\n			\n							\n		\n				\n			\n						\n				\n							\n					\n						\n				\n					\n		\n				\n			\n							\n		\n					\n		\n					\n		\n					\n		\n				\n						\n					\n			\n						\n				\n																														\n				\n				\n				\n					Michelle Grajkowski 				\n				\n					\n		\n				\n			\n						\n				\n																														\n				\n				\n				\n					Stephanie Stevens 				\n				\n					\n		\n				\n			\n						\n				\n					QUESTIONS?  				\n				\n				\n				\n									Contact Michelle Grajkowski or Stephanie Stevens with any questions\, (608) 258-3400. 								\n				\n					\n		\n					\n		\n				\n						\n					\n			\n						\n				\n									Special thanks to our 2023 WMC Foundation Sponsorsfor their commitment to our events and programs throughout the year!
URL:https://www.wmcfoundation.org/event/summer-camp/
LOCATION:Lakeland University\, W3718 South Drive\, Plymouth\, WI\, 53073\, United States
CATEGORIES:WBW Event
ATTACH;FMTTYPE=image/jpeg:https://www.wmcfoundation.org/wp-content/uploads/2021/11/Business-World-2024-Broll.00_24_19_21.Still012-1.jpg
GEO:43.8390585;-87.8816319
X-APPLE-STRUCTURED-LOCATION;VALUE=URI;X-ADDRESS=Lakeland University W3718 South Drive Plymouth WI 53073 United States;X-APPLE-RADIUS=500;X-TITLE=W3718 South Drive:geo:-87.8816319,43.8390585
END:VEVENT
END:VCALENDAR